BEGIN:VCALENDAR
VERSION:2.0
PRODID:spatie/icalendar-generator
DESCRIPTION:Veranstaltungen von Werkstattcafé Dessau
X-WR-CALDESC:Veranstaltungen von Werkstattcafé Dessau
REFRESH-INTERVAL;VALUE=DURATION:PT1440M
X-PUBLISHED-TTL:PT1440M
BEGIN:VTIMEZONE
TZID:Etc/GMT+0
BEGIN:STANDARD
DTSTART:20230822T160000Z
TZOFFSETFROM:+0000
TZOFFSETTO:+0000
END:STANDARD
END:VTIMEZONE
BEGIN:VTIMEZONE
TZID:UTC
BEGIN:STANDARD
DTSTART:20250728T055236Z
TZOFFSETFROM:+0000
TZOFFSETTO:+0000
END:STANDARD
END:VTIMEZONE
BEGIN:VEVENT
UID:15-10
DTSTAMP:20260424T055236Z
SUMMARY:Workshop Arduino Grundkenntnisse
LOCATION:
ORGANIZER;CN=Felix Moosdorf:MAILTO:felix.r.moosdorf@web.de
DTSTART;TZID=Etc/GMT+0:20240518T160000
DTEND;TZID=Etc/GMT+0:20240518T190000
X-ALT-DESC;FMTTYPE=TEXT/HTML:In diesem Workshop erfährst du was man mit ei
 nem Arduino alles anstellen und ermöglichen dir einen schnellen Einstieg.
  Es ist hilfreich seinen eigenen Laptop mitzubringen und wenn vorhanden au
 ch einen Arduino. (Weitere Workshops mit Arduino und Co. werden folgen!) D
 atum: 18.05.2024 / 16 – 19 Uhr Anzahl: 15 Personen Materialkosten: 0€
CATEGORIES:Workshop
URL;VALUE=URI:https://werkstattcafe-dessau.de/mc-events/workshop-arduino-gr
 undkenntnisse/
METHOD:PUBLISH
END:VEVENT
END:VCALENDAR